BEGIN:VCALENDAR
VERSION:2.0
CALSCALE:GREGORIAN
METHOD:PUBLISH
BEGIN:VTIMEZONE
TZID:Europe/Stockholm
BEGIN:STANDARD
DTSTART:19700101T030000
RRULE:FREQ=YEARLY;BYDAY=-1SU;BYMONTH=10
TZOFFSETFROM:+0200
TZOFFSETTO:+0100
END:STANDARD
BEGIN:DAYLIGHT
DTSTART:19700101T020000
RRULE:FREQ=YEARLY;BYDAY=-1SU;BYMONTH=3
TZOFFSETFROM:+0100
TZOFFSETTO:+0200
END:DAYLIGHT
END:VTIMEZONE
BEGIN:VEVENT
UID:28 april kl 16:30 - 17:30@www.alvsbyhus.no
DTSTAMP:20260422T053354Z
SUMMARY:Viewing: Visningshus i Innlandet
DTSTART;TZID=Europe/Stockholm:20260428T163000
DTEND;TZID=Europe/Stockholm:20260428T173000
LOCATION:Klavavegen 4\, Elverum
URL:https://www.alvsbyhus.no/visninger/visningshus-smestadtoppen-elverum/
BEGIN:VALARM
TRIGGER:-PT24H
ACTION:DISPLAY
DESCRIPTION:Reminder
END:VALARM
BEGIN:VALARM
TRIGGER:-PT1H
ACTION:DISPLAY
DESCRIPTION:Reminder
END:VALARM
END:VEVENT
END:VCALENDAR
